BEGIN:VCALENDAR
VERSION:2.0
PRODID:-//P.I.P.E Trust - ECPv6.15.20//NONSGML v1.0//EN
CALSCALE:GREGORIAN
METHOD:PUBLISH
X-WR-CALNAME:P.I.P.E Trust
X-ORIGINAL-URL:https://pipetrust.org
X-WR-CALDESC:Events for P.I.P.E Trust
REFRESH-INTERVAL;VALUE=DURATION:PT1H
X-Robots-Tag:noindex
X-PUBLISHED-TTL:PT1H
BEGIN:VTIMEZONE
TZID:UTC
BEGIN:STANDARD
TZOFFSETFROM:+0000
TZOFFSETTO:+0000
TZNAME:UTC
DTSTART:20230101T000000
END:STANDARD
END:VTIMEZONE
BEGIN:VEVENT
DTSTART;TZID=UTC:20240710T070000
DTEND;TZID=UTC:20240710T150000
DTSTAMP:20260422T222853
CREATED:20240627T193434Z
LAST-MODIFIED:20240627T193701Z
UID:441-1720594800-1720623600@pipetrust.org
SUMMARY:Backflow Repairer
DESCRIPTION:
URL:https://pipetrust.org/event/backflow-repairer-2/
CATEGORIES:Backflow
END:VEVENT
BEGIN:VEVENT
DTSTART;TZID=UTC:20240709T070000
DTEND;TZID=UTC:20240709T150000
DTSTAMP:20260422T222853
CREATED:20240627T193610Z
LAST-MODIFIED:20240627T193610Z
UID:442-1720508400-1720537200@pipetrust.org
SUMMARY:Backflow Repairer
DESCRIPTION:
URL:https://pipetrust.org/event/backflow-repairer-3/
CATEGORIES:Backflow
END:VEVENT
BEGIN:VEVENT
DTSTART;TZID=UTC:20240708T170000
DTEND;TZID=UTC:20240708T200000
DTSTAMP:20260422T222853
CREATED:20240627T192358Z
LAST-MODIFIED:20240627T192358Z
UID:438-1720458000-1720468800@pipetrust.org
SUMMARY:UPC Code Review
DESCRIPTION:
URL:https://pipetrust.org/event/upc-code-review-3/
CATEGORIES:UPC
END:VEVENT
BEGIN:VEVENT
DTSTART;TZID=UTC:20240708T070000
DTEND;TZID=UTC:20240708T150000
DTSTAMP:20260422T222853
CREATED:20240627T193121Z
LAST-MODIFIED:20240627T193121Z
UID:440-1720422000-1720450800@pipetrust.org
SUMMARY:Backflow Repairer
DESCRIPTION:
URL:https://pipetrust.org/event/backflow-repairer/
CATEGORIES:Backflow
END:VEVENT
BEGIN:VEVENT
DTSTART;TZID=UTC:20240703T170000
DTEND;TZID=UTC:20240703T200000
DTSTAMP:20260422T222853
CREATED:20240627T192112Z
LAST-MODIFIED:20240628T192202Z
UID:437-1720026000-1720036800@pipetrust.org
SUMMARY:UPC Code Review
DESCRIPTION:
URL:https://pipetrust.org/event/upc-code-review-2/
CATEGORIES:UPC
END:VEVENT
BEGIN:VEVENT
DTSTART;TZID=UTC:20240701T170000
DTEND;TZID=UTC:20240701T200000
DTSTAMP:20260422T222853
CREATED:20240627T191803Z
LAST-MODIFIED:20240628T192107Z
UID:435-1719853200-1719864000@pipetrust.org
SUMMARY:UPC Code Review
DESCRIPTION:
URL:https://pipetrust.org/event/upc-code-review/
CATEGORIES:UPC
END:VEVENT
BEGIN:VEVENT
DTSTART;TZID=UTC:20240629T070000
DTEND;TZID=UTC:20240629T150000
DTSTAMP:20260422T222853
CREATED:20240627T190952Z
LAST-MODIFIED:20240628T192030Z
UID:433-1719644400-1719673200@pipetrust.org
SUMMARY:Backflow Recert
DESCRIPTION:
URL:https://pipetrust.org/event/backflow-recert/
CATEGORIES:Backflow
END:VEVENT
BEGIN:VEVENT
DTSTART;TZID=UTC:20240625T080000
DTEND;TZID=UTC:20240625T170000
DTSTAMP:20260422T222853
CREATED:20240625T160735Z
LAST-MODIFIED:20240625T161807Z
UID:388-1719302400-1719334800@pipetrust.org
SUMMARY:Test
DESCRIPTION:This is a test
URL:https://pipetrust.org/event/test/
END:VEVENT
END:VCALENDAR