BEGIN:VCALENDAR
VERSION:2.0
PRODID:-//P.I.P.E Trust - ECPv6.15.20//NONSGML v1.0//EN
CALSCALE:GREGORIAN
METHOD:PUBLISH
X-WR-CALNAME:P.I.P.E Trust
X-ORIGINAL-URL:https://pipetrust.org
X-WR-CALDESC:Events for P.I.P.E Trust
REFRESH-INTERVAL;VALUE=DURATION:PT1H
X-Robots-Tag:noindex
X-PUBLISHED-TTL:PT1H
BEGIN:VTIMEZONE
TZID:UTC
BEGIN:STANDARD
TZOFFSETFROM:+0000
TZOFFSETTO:+0000
TZNAME:UTC
DTSTART:20230101T000000
END:STANDARD
END:VTIMEZONE
BEGIN:VEVENT
DTSTART;TZID=UTC:20240813T170000
DTEND;TZID=UTC:20240813T210000
DTSTAMP:20260421T223134
CREATED:20240628T192657Z
LAST-MODIFIED:20240628T192657Z
UID:459-1723568400-1723582800@pipetrust.org
SUMMARY:PVC Bonding
DESCRIPTION:
URL:https://pipetrust.org/event/pvc-bonding-4/
CATEGORIES:PVC Bonding
END:VEVENT
BEGIN:VEVENT
DTSTART;TZID=UTC:20240813T070000
DTEND;TZID=UTC:20240813T150000
DTSTAMP:20260421T223134
CREATED:20240628T202902Z
LAST-MODIFIED:20240628T202902Z
UID:475-1723532400-1723561200@pipetrust.org
SUMMARY:Backflow Tester
DESCRIPTION:
URL:https://pipetrust.org/event/backflow-tester-2/
CATEGORIES:Backflow
END:VEVENT
BEGIN:VEVENT
DTSTART;TZID=UTC:20240812T070000
DTEND;TZID=UTC:20240812T150000
DTSTAMP:20260421T223134
CREATED:20240628T202815Z
LAST-MODIFIED:20240628T202938Z
UID:474-1723446000-1723474800@pipetrust.org
SUMMARY:Backflow Tester
DESCRIPTION:
URL:https://pipetrust.org/event/backflow-tester/
CATEGORIES:Backflow
END:VEVENT
BEGIN:VEVENT
DTSTART;TZID=UTC:20240809T070000
DTEND;TZID=UTC:20240809T150000
DTSTAMP:20260421T223134
CREATED:20240701T180859Z
LAST-MODIFIED:20240701T180859Z
UID:519-1723186800-1723215600@pipetrust.org
SUMMARY:Medgas Installer
DESCRIPTION:
URL:https://pipetrust.org/event/medgas-installer-5/
CATEGORIES:Med Gas
END:VEVENT
BEGIN:VEVENT
DTSTART;TZID=UTC:20240808T070000
DTEND;TZID=UTC:20240808T150000
DTSTAMP:20260421T223134
CREATED:20240701T180839Z
LAST-MODIFIED:20240701T180839Z
UID:518-1723100400-1723129200@pipetrust.org
SUMMARY:Medgas Installer
DESCRIPTION:
URL:https://pipetrust.org/event/medgas-installer-4/
CATEGORIES:Med Gas
END:VEVENT
BEGIN:VEVENT
DTSTART;TZID=UTC:20240807T070000
DTEND;TZID=UTC:20240807T150000
DTSTAMP:20260421T223134
CREATED:20240701T180525Z
LAST-MODIFIED:20240701T180525Z
UID:517-1723014000-1723042800@pipetrust.org
SUMMARY:Medgas Installer
DESCRIPTION:
URL:https://pipetrust.org/event/medgas-installer-3/
CATEGORIES:Med Gas
END:VEVENT
BEGIN:VEVENT
DTSTART;TZID=UTC:20240806T070000
DTEND;TZID=UTC:20240806T150000
DTSTAMP:20260421T223134
CREATED:20240701T180503Z
LAST-MODIFIED:20240701T180503Z
UID:516-1722927600-1722956400@pipetrust.org
SUMMARY:Medgas Installer
DESCRIPTION:
URL:https://pipetrust.org/event/medgas-installer-2/
CATEGORIES:Med Gas
END:VEVENT
BEGIN:VEVENT
DTSTART;TZID=UTC:20240805T070000
DTEND;TZID=UTC:20240805T150000
DTSTAMP:20260421T223134
CREATED:20240701T180434Z
LAST-MODIFIED:20240701T180434Z
UID:515-1722841200-1722870000@pipetrust.org
SUMMARY:Medgas Installer
DESCRIPTION:
URL:https://pipetrust.org/event/medgas-installer/
CATEGORIES:Med Gas
END:VEVENT
BEGIN:VEVENT
DTSTART;TZID=UTC:20240731T170000
DTEND;TZID=UTC:20240731T200000
DTSTAMP:20260421T223134
CREATED:20240701T183555Z
LAST-MODIFIED:20240701T183555Z
UID:529-1722445200-1722456000@pipetrust.org
SUMMARY:UPC Code Review
DESCRIPTION:
URL:https://pipetrust.org/event/upc-code-review-10/
CATEGORIES:UPC
END:VEVENT
BEGIN:VEVENT
DTSTART;TZID=UTC:20240729T170000
DTEND;TZID=UTC:20240729T200000
DTSTAMP:20260421T223134
CREATED:20240701T183530Z
LAST-MODIFIED:20240701T183530Z
UID:528-1722272400-1722283200@pipetrust.org
SUMMARY:UPC Code Review
DESCRIPTION:
URL:https://pipetrust.org/event/upc-code-review-9/
CATEGORIES:UPC
END:VEVENT
BEGIN:VEVENT
DTSTART;TZID=UTC:20240727T070000
DTEND;TZID=UTC:20240727T150000
DTSTAMP:20260421T223134
CREATED:20240701T151405Z
LAST-MODIFIED:20240701T151405Z
UID:491-1722063600-1722092400@pipetrust.org
SUMMARY:Backflow Recert
DESCRIPTION:
URL:https://pipetrust.org/event/backflow-recert-3/
CATEGORIES:Backflow
END:VEVENT
BEGIN:VEVENT
DTSTART;TZID=UTC:20240724T170000
DTEND;TZID=UTC:20240724T200000
DTSTAMP:20260421T223134
CREATED:20240701T183405Z
LAST-MODIFIED:20240701T183405Z
UID:527-1721840400-1721851200@pipetrust.org
SUMMARY:UPC Code Review
DESCRIPTION:
URL:https://pipetrust.org/event/upc-code-review-8/
CATEGORIES:UPC
END:VEVENT
BEGIN:VEVENT
DTSTART;TZID=UTC:20240724T160000
DTEND;TZID=UTC:20240724T200000
DTSTAMP:20260421T223134
CREATED:20240701T153943Z
LAST-MODIFIED:20240701T153943Z
UID:508-1721836800-1721851200@pipetrust.org
SUMMARY:1st Aid/CPR
DESCRIPTION:
URL:https://pipetrust.org/event/1st-aid-cpr-2/
CATEGORIES:Safety
END:VEVENT
BEGIN:VEVENT
DTSTART;TZID=UTC:20240723T160000
DTEND;TZID=UTC:20240723T200000
DTSTAMP:20260421T223134
CREATED:20240701T153837Z
LAST-MODIFIED:20240701T154019Z
UID:507-1721750400-1721764800@pipetrust.org
SUMMARY:1st Aid/CPR
DESCRIPTION:
URL:https://pipetrust.org/event/1st-aid-cpr/
CATEGORIES:Safety
END:VEVENT
BEGIN:VEVENT
DTSTART;TZID=UTC:20240722T170000
DTEND;TZID=UTC:20240722T200000
DTSTAMP:20260421T223134
CREATED:20240701T183333Z
LAST-MODIFIED:20240701T183333Z
UID:526-1721667600-1721678400@pipetrust.org
SUMMARY:UPC Code Review
DESCRIPTION:
URL:https://pipetrust.org/event/upc-code-review-7/
CATEGORIES:UPC
END:VEVENT
BEGIN:VEVENT
DTSTART;TZID=UTC:20240720T070000
DTEND;TZID=UTC:20240720T150000
DTSTAMP:20260421T223134
CREATED:20240701T151318Z
LAST-MODIFIED:20240701T151318Z
UID:490-1721458800-1721487600@pipetrust.org
SUMMARY:Backflow Recert
DESCRIPTION:
URL:https://pipetrust.org/event/backflow-recert-2/
CATEGORIES:Backflow
END:VEVENT
BEGIN:VEVENT
DTSTART;TZID=UTC:20240720T063000
DTEND;TZID=UTC:20240720T140000
DTSTAMP:20260421T223134
CREATED:20240628T192559Z
LAST-MODIFIED:20240628T192559Z
UID:458-1721457000-1721484000@pipetrust.org
SUMMARY:PVC Bonding
DESCRIPTION:
URL:https://pipetrust.org/event/pvc-bonding-3/
CATEGORIES:PVC Bonding
END:VEVENT
BEGIN:VEVENT
DTSTART;TZID=UTC:20240718T170000
DTEND;TZID=UTC:20240718T210000
DTSTAMP:20260421T223134
CREATED:20240628T192444Z
LAST-MODIFIED:20240628T192444Z
UID:457-1721322000-1721336400@pipetrust.org
SUMMARY:PVC Bonding
DESCRIPTION:
URL:https://pipetrust.org/event/pvc-bonding-2/
CATEGORIES:PVC Bonding
END:VEVENT
BEGIN:VEVENT
DTSTART;TZID=UTC:20240717T170000
DTEND;TZID=UTC:20240717T200000
DTSTAMP:20260421T223134
CREATED:20240701T183317Z
LAST-MODIFIED:20240701T183317Z
UID:525-1721235600-1721246400@pipetrust.org
SUMMARY:UPC Code Review
DESCRIPTION:
URL:https://pipetrust.org/event/upc-code-review-6/
CATEGORIES:UPC
END:VEVENT
BEGIN:VEVENT
DTSTART;TZID=UTC:20240716T170000
DTEND;TZID=UTC:20240716T210000
DTSTAMP:20260421T223134
CREATED:20240628T192352Z
LAST-MODIFIED:20240628T192505Z
UID:456-1721149200-1721163600@pipetrust.org
SUMMARY:PVC Bonding
DESCRIPTION:
URL:https://pipetrust.org/event/pvc-bonding/
CATEGORIES:PVC Bonding
END:VEVENT
BEGIN:VEVENT
DTSTART;TZID=UTC:20240715T170000
DTEND;TZID=UTC:20240715T200000
DTSTAMP:20260421T223134
CREATED:20240628T191514Z
LAST-MODIFIED:20240628T191514Z
UID:455-1721062800-1721073600@pipetrust.org
SUMMARY:UPC Code Review
DESCRIPTION:
URL:https://pipetrust.org/event/upc-code-review-5/
CATEGORIES:UPC
END:VEVENT
BEGIN:VEVENT
DTSTART;VALUE=DATE:20240715
DTEND;VALUE=DATE:20240720
DTSTAMP:20260421T223134
CREATED:20240625T162758Z
LAST-MODIFIED:20240628T194818Z
UID:390-1721001600-1721433599@pipetrust.org
SUMMARY:Preparatory Class for AWS/CWI
DESCRIPTION:
URL:https://pipetrust.org/event/preparatory-class-for-aws-cwi/
CATEGORIES:AWI/CWI
END:VEVENT
BEGIN:VEVENT
DTSTART;TZID=UTC:20240712T070000
DTEND;TZID=UTC:20240712T150000
DTSTAMP:20260421T223134
CREATED:20240701T153253Z
LAST-MODIFIED:20240701T153253Z
UID:501-1720767600-1720796400@pipetrust.org
SUMMARY:Backflow Repairer
DESCRIPTION:
URL:https://pipetrust.org/event/backflow-repairer-5/
CATEGORIES:Backflow
END:VEVENT
BEGIN:VEVENT
DTSTART;TZID=UTC:20240711T070000
DTEND;TZID=UTC:20240711T150000
DTSTAMP:20260421T223134
CREATED:20240627T193753Z
LAST-MODIFIED:20240627T193753Z
UID:443-1720681200-1720710000@pipetrust.org
SUMMARY:Backflow Repairer
DESCRIPTION:
URL:https://pipetrust.org/event/backflow-repairer-4/
CATEGORIES:Backflow
END:VEVENT
BEGIN:VEVENT
DTSTART;TZID=UTC:20240710T170000
DTEND;TZID=UTC:20240710T200000
DTSTAMP:20260421T223134
CREATED:20240627T192905Z
LAST-MODIFIED:20240627T192905Z
UID:439-1720630800-1720641600@pipetrust.org
SUMMARY:UPC Code Review
DESCRIPTION:
URL:https://pipetrust.org/event/upc-code-review-4/
CATEGORIES:UPC
END:VEVENT
BEGIN:VEVENT
DTSTART;TZID=UTC:20240710T070000
DTEND;TZID=UTC:20240710T150000
DTSTAMP:20260421T223134
CREATED:20240627T193434Z
LAST-MODIFIED:20240627T193701Z
UID:441-1720594800-1720623600@pipetrust.org
SUMMARY:Backflow Repairer
DESCRIPTION:
URL:https://pipetrust.org/event/backflow-repairer-2/
CATEGORIES:Backflow
END:VEVENT
BEGIN:VEVENT
DTSTART;TZID=UTC:20240709T070000
DTEND;TZID=UTC:20240709T150000
DTSTAMP:20260421T223134
CREATED:20240627T193610Z
LAST-MODIFIED:20240627T193610Z
UID:442-1720508400-1720537200@pipetrust.org
SUMMARY:Backflow Repairer
DESCRIPTION:
URL:https://pipetrust.org/event/backflow-repairer-3/
CATEGORIES:Backflow
END:VEVENT
BEGIN:VEVENT
DTSTART;TZID=UTC:20240708T170000
DTEND;TZID=UTC:20240708T200000
DTSTAMP:20260421T223134
CREATED:20240627T192358Z
LAST-MODIFIED:20240627T192358Z
UID:438-1720458000-1720468800@pipetrust.org
SUMMARY:UPC Code Review
DESCRIPTION:
URL:https://pipetrust.org/event/upc-code-review-3/
CATEGORIES:UPC
END:VEVENT
BEGIN:VEVENT
DTSTART;TZID=UTC:20240708T070000
DTEND;TZID=UTC:20240708T150000
DTSTAMP:20260421T223134
CREATED:20240627T193121Z
LAST-MODIFIED:20240627T193121Z
UID:440-1720422000-1720450800@pipetrust.org
SUMMARY:Backflow Repairer
DESCRIPTION:
URL:https://pipetrust.org/event/backflow-repairer/
CATEGORIES:Backflow
END:VEVENT
BEGIN:VEVENT
DTSTART;TZID=UTC:20240703T170000
DTEND;TZID=UTC:20240703T200000
DTSTAMP:20260421T223134
CREATED:20240627T192112Z
LAST-MODIFIED:20240628T192202Z
UID:437-1720026000-1720036800@pipetrust.org
SUMMARY:UPC Code Review
DESCRIPTION:
URL:https://pipetrust.org/event/upc-code-review-2/
CATEGORIES:UPC
END:VEVENT
END:VCALENDAR