BEGIN:VCALENDAR
VERSION:2.0
PRODID:-//P.I.P.E Trust - ECPv6.15.20//NONSGML v1.0//EN
CALSCALE:GREGORIAN
METHOD:PUBLISH
X-ORIGINAL-URL:https://pipetrust.org
X-WR-CALDESC:Events for P.I.P.E Trust
REFRESH-INTERVAL;VALUE=DURATION:PT1H
X-Robots-Tag:noindex
X-PUBLISHED-TTL:PT1H
BEGIN:VTIMEZONE
TZID:UTC
BEGIN:STANDARD
TZOFFSETFROM:+0000
TZOFFSETTO:+0000
TZNAME:UTC
DTSTART:20240101T000000
END:STANDARD
END:VTIMEZONE
BEGIN:VEVENT
DTSTART;TZID=UTC:20250920T090000
DTEND;TZID=UTC:20250920T110000
DTSTAMP:20260421T183113
CREATED:20250827T153219Z
LAST-MODIFIED:20250827T153219Z
UID:592-1758358800-1758366000@pipetrust.org
SUMMARY:Union Meeting
DESCRIPTION:
URL:https://pipetrust.org/event/union-meeting/
LOCATION:UA Local 469\, 3109 N 24th St\, Phoenix\, AZ\, 85016\, United States
END:VEVENT
BEGIN:VEVENT
DTSTART;TZID=UTC:20251004T100000
DTEND;TZID=UTC:20251004T140000
DTSTAMP:20260421T183113
CREATED:20250827T153514Z
LAST-MODIFIED:20250827T153514Z
UID:597-1759572000-1759586400@pipetrust.org
SUMMARY:UA Local 469 Health Fair
DESCRIPTION:
URL:https://pipetrust.org/event/ua-local-469-health-fair/
LOCATION:UA Local 469\, 3109 N 24th St\, Phoenix\, AZ\, 85016\, United States
END:VEVENT
BEGIN:VEVENT
DTSTART;TZID=UTC:20251011T070000
DTEND;TZID=UTC:20251011T120000
DTSTAMP:20260421T183113
CREATED:20250827T152702Z
LAST-MODIFIED:20250827T153906Z
UID:589-1760166000-1760184000@pipetrust.org
SUMMARY:Continuity Saturday
DESCRIPTION:
URL:https://pipetrust.org/event/continuity-saturday-3/
LOCATION:Pipe Trades Apprenticeship\, 2950 W Thomas Rd\, Phoenix\, AZ\, 85017\, United States
END:VEVENT
BEGIN:VEVENT
DTSTART;TZID=UTC:20251017T180000
DTEND;TZID=UTC:20251017T200000
DTSTAMP:20260421T183113
CREATED:20250827T153305Z
LAST-MODIFIED:20250827T153305Z
UID:594-1760724000-1760731200@pipetrust.org
SUMMARY:Union Meeting
DESCRIPTION:
URL:https://pipetrust.org/event/union-meeting-2/
LOCATION:UA Local 469\, 3109 N 24th St\, Phoenix\, AZ\, 85016\, United States
END:VEVENT
BEGIN:VEVENT
DTSTART;TZID=UTC:20251108T070000
DTEND;TZID=UTC:20251108T120000
DTSTAMP:20260421T183113
CREATED:20250827T152734Z
LAST-MODIFIED:20250827T153959Z
UID:590-1762585200-1762603200@pipetrust.org
SUMMARY:Continuity Saturday
DESCRIPTION:
URL:https://pipetrust.org/event/continuity-saturday-4/
LOCATION:Pipe Trades Apprenticeship\, 2950 W Thomas Rd\, Phoenix\, AZ\, 85017\, United States
END:VEVENT
BEGIN:VEVENT
DTSTART;TZID=UTC:20251121T180000
DTEND;TZID=UTC:20251121T200000
DTSTAMP:20260421T183113
CREATED:20250827T153338Z
LAST-MODIFIED:20250827T153338Z
UID:595-1763748000-1763755200@pipetrust.org
SUMMARY:Union Meeting
DESCRIPTION:
URL:https://pipetrust.org/event/union-meeting-3/
LOCATION:UA Local 469\, 3109 N 24th St\, Phoenix\, AZ\, 85016\, United States
END:VEVENT
BEGIN:VEVENT
DTSTART;TZID=UTC:20251213T070000
DTEND;TZID=UTC:20251213T120000
DTSTAMP:20260421T183113
CREATED:20250827T152759Z
LAST-MODIFIED:20250827T154027Z
UID:591-1765609200-1765627200@pipetrust.org
SUMMARY:Continuity Saturday
DESCRIPTION:
URL:https://pipetrust.org/event/continuity-saturday-5/
LOCATION:Pipe Trades Apprenticeship\, 2950 W Thomas Rd\, Phoenix\, AZ\, 85017\, United States
END:VEVENT
BEGIN:VEVENT
DTSTART;TZID=UTC:20251213T100000
DTEND;TZID=UTC:20251213T140000
DTSTAMP:20260421T183113
CREATED:20250827T153738Z
LAST-MODIFIED:20250827T153738Z
UID:600-1765620000-1765634400@pipetrust.org
SUMMARY:UA Local 469 Children's Christmas Party
DESCRIPTION:
URL:https://pipetrust.org/event/ua-local-469-childrens-christmas-party/
LOCATION:UA Local 469\, 3109 N 24th St\, Phoenix\, AZ\, 85016\, United States
END:VEVENT
BEGIN:VEVENT
DTSTART;TZID=UTC:20251220T090000
DTEND;TZID=UTC:20251220T110000
DTSTAMP:20260421T183113
CREATED:20250827T153414Z
LAST-MODIFIED:20250827T153414Z
UID:596-1766221200-1766228400@pipetrust.org
SUMMARY:Union Meeting
DESCRIPTION:
URL:https://pipetrust.org/event/union-meeting-4/
LOCATION:UA Local 469\, 3109 N 24th St\, Phoenix\, AZ\, 85016\, United States
END:VEVENT
END:VCALENDAR