BEGIN:VCALENDAR
VERSION:2.0
PRODID:-//P.I.P.E Trust - ECPv6.15.20//NONSGML v1.0//EN
CALSCALE:GREGORIAN
METHOD:PUBLISH
X-WR-CALNAME:P.I.P.E Trust
X-ORIGINAL-URL:https://pipetrust.org
X-WR-CALDESC:Events for P.I.P.E Trust
REFRESH-INTERVAL;VALUE=DURATION:PT1H
X-Robots-Tag:noindex
X-PUBLISHED-TTL:PT1H
BEGIN:VTIMEZONE
TZID:UTC
BEGIN:STANDARD
TZOFFSETFROM:+0000
TZOFFSETTO:+0000
TZNAME:UTC
DTSTART:20230101T000000
END:STANDARD
END:VTIMEZONE
BEGIN:VEVENT
DTSTART;TZID=UTC:20251108T070000
DTEND;TZID=UTC:20251108T120000
DTSTAMP:20260422T000753
CREATED:20250827T152734Z
LAST-MODIFIED:20250827T153959Z
UID:590-1762585200-1762603200@pipetrust.org
SUMMARY:Continuity Saturday
DESCRIPTION:
URL:https://pipetrust.org/event/continuity-saturday-4/
LOCATION:Pipe Trades Apprenticeship\, 2950 W Thomas Rd\, Phoenix\, AZ\, 85017\, United States
END:VEVENT
BEGIN:VEVENT
DTSTART;TZID=UTC:20251017T180000
DTEND;TZID=UTC:20251017T200000
DTSTAMP:20260422T000753
CREATED:20250827T153305Z
LAST-MODIFIED:20250827T153305Z
UID:594-1760724000-1760731200@pipetrust.org
SUMMARY:Union Meeting
DESCRIPTION:
URL:https://pipetrust.org/event/union-meeting-2/
LOCATION:UA Local 469\, 3109 N 24th St\, Phoenix\, AZ\, 85016\, United States
END:VEVENT
BEGIN:VEVENT
DTSTART;TZID=UTC:20251011T070000
DTEND;TZID=UTC:20251011T120000
DTSTAMP:20260422T000753
CREATED:20250827T152702Z
LAST-MODIFIED:20250827T153906Z
UID:589-1760166000-1760184000@pipetrust.org
SUMMARY:Continuity Saturday
DESCRIPTION:
URL:https://pipetrust.org/event/continuity-saturday-3/
LOCATION:Pipe Trades Apprenticeship\, 2950 W Thomas Rd\, Phoenix\, AZ\, 85017\, United States
END:VEVENT
BEGIN:VEVENT
DTSTART;TZID=UTC:20251004T100000
DTEND;TZID=UTC:20251004T140000
DTSTAMP:20260422T000753
CREATED:20250827T153514Z
LAST-MODIFIED:20250827T153514Z
UID:597-1759572000-1759586400@pipetrust.org
SUMMARY:UA Local 469 Health Fair
DESCRIPTION:
URL:https://pipetrust.org/event/ua-local-469-health-fair/
LOCATION:UA Local 469\, 3109 N 24th St\, Phoenix\, AZ\, 85016\, United States
END:VEVENT
BEGIN:VEVENT
DTSTART;TZID=UTC:20250920T090000
DTEND;TZID=UTC:20250920T110000
DTSTAMP:20260422T000753
CREATED:20250827T153219Z
LAST-MODIFIED:20250827T153219Z
UID:592-1758358800-1758366000@pipetrust.org
SUMMARY:Union Meeting
DESCRIPTION:
URL:https://pipetrust.org/event/union-meeting/
LOCATION:UA Local 469\, 3109 N 24th St\, Phoenix\, AZ\, 85016\, United States
END:VEVENT
BEGIN:VEVENT
DTSTART;TZID=UTC:20250913T070000
DTEND;TZID=UTC:20250913T120000
DTSTAMP:20260422T000753
CREATED:20250827T152553Z
LAST-MODIFIED:20250827T152553Z
UID:588-1757746800-1757764800@pipetrust.org
SUMMARY:Continuity Saturday
DESCRIPTION:
URL:https://pipetrust.org/event/continuity-saturday-2/
LOCATION:Pipe Trades Apprenticeship\, 2950 W Thomas Rd\, Phoenix\, AZ\, 85017\, United States
END:VEVENT
BEGIN:VEVENT
DTSTART;TZID=UTC:20250901T130000
DTEND;TZID=UTC:20250901T200000
DTSTAMP:20260422T000753
CREATED:20250827T153655Z
LAST-MODIFIED:20250827T153655Z
UID:598-1756731600-1756756800@pipetrust.org
SUMMARY:Labor Day Diamondbacks Game
DESCRIPTION:
URL:https://pipetrust.org/event/labor-day-diamondbacks-game/
LOCATION:Chase Field\, 401 E Jefferson St\, Phoenix\, AZ\, 85004\, United States
END:VEVENT
BEGIN:VEVENT
DTSTART;TZID=UTC:20250802T070000
DTEND;TZID=UTC:20250802T120000
DTSTAMP:20260422T000753
CREATED:20250825T215543Z
LAST-MODIFIED:20250825T215543Z
UID:586-1754118000-1754136000@pipetrust.org
SUMMARY:Continuity Saturday
DESCRIPTION:
URL:https://pipetrust.org/event/continuity-saturday/
LOCATION:Pipe Trades Apprenticeship\, 2950 W Thomas Rd\, Phoenix\, AZ\, 85017\, United States
END:VEVENT
BEGIN:VEVENT
DTSTART;TZID=UTC:20241221T063000
DTEND;TZID=UTC:20241221T140000
DTSTAMP:20260422T000753
CREATED:20240628T200939Z
LAST-MODIFIED:20240628T200939Z
UID:473-1734762600-1734789600@pipetrust.org
SUMMARY:PVC Bonding
DESCRIPTION:
URL:https://pipetrust.org/event/pvc-bonding-18/
LOCATION:AZ
CATEGORIES:PVC Bonding
END:VEVENT
BEGIN:VEVENT
DTSTART;TZID=UTC:20241219T170000
DTEND;TZID=UTC:20241219T210000
DTSTAMP:20260422T000753
CREATED:20240628T200739Z
LAST-MODIFIED:20240628T200739Z
UID:472-1734627600-1734642000@pipetrust.org
SUMMARY:PVC Bonding
DESCRIPTION:
URL:https://pipetrust.org/event/pvc-bonding-17/
LOCATION:AZ
CATEGORIES:PVC Bonding
END:VEVENT
BEGIN:VEVENT
DTSTART;TZID=UTC:20241217T170000
DTEND;TZID=UTC:20241217T210000
DTSTAMP:20260422T000753
CREATED:20240628T200706Z
LAST-MODIFIED:20240628T200706Z
UID:471-1734454800-1734469200@pipetrust.org
SUMMARY:PVC Bonding
DESCRIPTION:
URL:https://pipetrust.org/event/pvc-bonding-16/
LOCATION:AZ
CATEGORIES:PVC Bonding
END:VEVENT
BEGIN:VEVENT
DTSTART;TZID=UTC:20241123T070000
DTEND;TZID=UTC:20241123T150000
DTSTAMP:20260422T000753
CREATED:20240701T153056Z
LAST-MODIFIED:20240701T153056Z
UID:499-1732345200-1732374000@pipetrust.org
SUMMARY:Backflow Recert
DESCRIPTION:
URL:https://pipetrust.org/event/backflow-recert-11/
LOCATION:AZ
CATEGORIES:Backflow
END:VEVENT
BEGIN:VEVENT
DTSTART;TZID=UTC:20241116T070000
DTEND;TZID=UTC:20241116T150000
DTSTAMP:20260422T000753
CREATED:20240701T153025Z
LAST-MODIFIED:20240701T153025Z
UID:498-1731740400-1731769200@pipetrust.org
SUMMARY:Backflow Recert
DESCRIPTION:
URL:https://pipetrust.org/event/backflow-recert-10/
LOCATION:AZ
CATEGORIES:Backflow
END:VEVENT
BEGIN:VEVENT
DTSTART;TZID=UTC:20241116T063000
DTEND;TZID=UTC:20241116T140000
DTSTAMP:20260422T000753
CREATED:20240628T200612Z
LAST-MODIFIED:20240628T200612Z
UID:470-1731738600-1731765600@pipetrust.org
SUMMARY:PVC Bonding
DESCRIPTION:
URL:https://pipetrust.org/event/pvc-bonding-15/
LOCATION:AZ
CATEGORIES:PVC Bonding
END:VEVENT
BEGIN:VEVENT
DTSTART;TZID=UTC:20241114T170000
DTEND;TZID=UTC:20241114T210000
DTSTAMP:20260422T000753
CREATED:20240628T200525Z
LAST-MODIFIED:20240628T200525Z
UID:469-1731603600-1731618000@pipetrust.org
SUMMARY:PVC Bonding
DESCRIPTION:
URL:https://pipetrust.org/event/pvc-bonding-14/
LOCATION:AZ
CATEGORIES:PVC Bonding
END:VEVENT
BEGIN:VEVENT
DTSTART;TZID=UTC:20241112T170000
DTEND;TZID=UTC:20241112T210000
DTSTAMP:20260422T000753
CREATED:20240628T195858Z
LAST-MODIFIED:20240628T195858Z
UID:468-1731430800-1731445200@pipetrust.org
SUMMARY:PVC Bonding
DESCRIPTION:
URL:https://pipetrust.org/event/pvc-bonding-13/
LOCATION:AZ
CATEGORIES:PVC Bonding
END:VEVENT
BEGIN:VEVENT
DTSTART;TZID=UTC:20241108T070000
DTEND;TZID=UTC:20241108T150000
DTSTAMP:20260422T000753
CREATED:20240701T151106Z
LAST-MODIFIED:20240701T151106Z
UID:489-1731049200-1731078000@pipetrust.org
SUMMARY:Backflow Tester
DESCRIPTION:
URL:https://pipetrust.org/event/backflow-tester-15/
LOCATION:AZ
CATEGORIES:Backflow
END:VEVENT
BEGIN:VEVENT
DTSTART;TZID=UTC:20241107T070000
DTEND;TZID=UTC:20241107T150000
DTSTAMP:20260422T000753
CREATED:20240701T151033Z
LAST-MODIFIED:20240701T151033Z
UID:488-1730962800-1730991600@pipetrust.org
SUMMARY:Backflow Tester
DESCRIPTION:
URL:https://pipetrust.org/event/backflow-tester-14/
LOCATION:AZ
CATEGORIES:Backflow
END:VEVENT
BEGIN:VEVENT
DTSTART;TZID=UTC:20241106T070000
DTEND;TZID=UTC:20241106T150000
DTSTAMP:20260422T000753
CREATED:20240701T151004Z
LAST-MODIFIED:20240701T151004Z
UID:487-1730876400-1730905200@pipetrust.org
SUMMARY:Backflow Tester
DESCRIPTION:
URL:https://pipetrust.org/event/backflow-tester-13/
LOCATION:AZ
CATEGORIES:Backflow
END:VEVENT
BEGIN:VEVENT
DTSTART;TZID=UTC:20241105T070000
DTEND;TZID=UTC:20241105T150000
DTSTAMP:20260422T000753
CREATED:20240701T150907Z
LAST-MODIFIED:20240701T150907Z
UID:486-1730790000-1730818800@pipetrust.org
SUMMARY:Backflow Tester
DESCRIPTION:
URL:https://pipetrust.org/event/backflow-tester-12/
LOCATION:AZ
CATEGORIES:Backflow
END:VEVENT
BEGIN:VEVENT
DTSTART;TZID=UTC:20241104T070000
DTEND;TZID=UTC:20241104T150000
DTSTAMP:20260422T000753
CREATED:20240701T150830Z
LAST-MODIFIED:20240701T150830Z
UID:485-1730703600-1730732400@pipetrust.org
SUMMARY:Backflow Tester
DESCRIPTION:
URL:https://pipetrust.org/event/backflow-tester-11/
LOCATION:AZ
CATEGORIES:Backflow
END:VEVENT
BEGIN:VEVENT
DTSTART;TZID=UTC:20241101T070000
DTEND;TZID=UTC:20241101T150000
DTSTAMP:20260422T000753
CREATED:20240701T181220Z
LAST-MODIFIED:20240701T181220Z
UID:524-1730444400-1730473200@pipetrust.org
SUMMARY:Medgas Installer
DESCRIPTION:
URL:https://pipetrust.org/event/medgas-installer-10/
LOCATION:AZ
CATEGORIES:Med Gas
END:VEVENT
BEGIN:VEVENT
DTSTART;TZID=UTC:20241031T070000
DTEND;TZID=UTC:20241031T150000
DTSTAMP:20260422T000753
CREATED:20240701T181204Z
LAST-MODIFIED:20240701T181204Z
UID:523-1730358000-1730386800@pipetrust.org
SUMMARY:Medgas Installer
DESCRIPTION:
URL:https://pipetrust.org/event/medgas-installer-9/
LOCATION:AZ
CATEGORIES:Med Gas
END:VEVENT
BEGIN:VEVENT
DTSTART;TZID=UTC:20241030T070000
DTEND;TZID=UTC:20241030T150000
DTSTAMP:20260422T000753
CREATED:20240701T180952Z
LAST-MODIFIED:20240701T180952Z
UID:522-1730271600-1730300400@pipetrust.org
SUMMARY:Medgas Installer
DESCRIPTION:
URL:https://pipetrust.org/event/medgas-installer-8/
LOCATION:AZ
CATEGORIES:Med Gas
END:VEVENT
BEGIN:VEVENT
DTSTART;TZID=UTC:20241029T070000
DTEND;TZID=UTC:20241029T150000
DTSTAMP:20260422T000753
CREATED:20240701T180938Z
LAST-MODIFIED:20240701T180938Z
UID:521-1730185200-1730214000@pipetrust.org
SUMMARY:Medgas Installer
DESCRIPTION:
URL:https://pipetrust.org/event/medgas-installer-7/
LOCATION:AZ
CATEGORIES:Med Gas
END:VEVENT
BEGIN:VEVENT
DTSTART;TZID=UTC:20241028T070000
DTEND;TZID=UTC:20241028T150000
DTSTAMP:20260422T000753
CREATED:20240701T180917Z
LAST-MODIFIED:20240701T180917Z
UID:520-1730098800-1730127600@pipetrust.org
SUMMARY:Medgas Installer
DESCRIPTION:
URL:https://pipetrust.org/event/medgas-installer-6/
LOCATION:AZ
CATEGORIES:Med Gas
END:VEVENT
BEGIN:VEVENT
DTSTART;TZID=UTC:20241026T070000
DTEND;TZID=UTC:20241026T150000
DTSTAMP:20260422T000753
CREATED:20240701T152945Z
LAST-MODIFIED:20240701T152945Z
UID:497-1729926000-1729954800@pipetrust.org
SUMMARY:Backflow Recert
DESCRIPTION:
URL:https://pipetrust.org/event/backflow-recert-9/
LOCATION:AZ
CATEGORIES:Backflow
END:VEVENT
BEGIN:VEVENT
DTSTART;TZID=UTC:20241024T160000
DTEND;TZID=UTC:20241024T200000
DTSTAMP:20260422T000753
CREATED:20240701T154220Z
LAST-MODIFIED:20240701T154220Z
UID:510-1729785600-1729800000@pipetrust.org
SUMMARY:1st Aid/CPR
DESCRIPTION:
URL:https://pipetrust.org/event/1st-aid-cpr-4/
LOCATION:AZ
CATEGORIES:Safety
END:VEVENT
BEGIN:VEVENT
DTSTART;TZID=UTC:20241023T160000
DTEND;TZID=UTC:20241023T200000
DTSTAMP:20260422T000753
CREATED:20240701T154204Z
LAST-MODIFIED:20240701T154204Z
UID:509-1729699200-1729713600@pipetrust.org
SUMMARY:1st Aid/CPR
DESCRIPTION:
URL:https://pipetrust.org/event/1st-aid-cpr-3/
LOCATION:AZ
CATEGORIES:Safety
END:VEVENT
BEGIN:VEVENT
DTSTART;TZID=UTC:20241019T070000
DTEND;TZID=UTC:20241019T150000
DTSTAMP:20260422T000753
CREATED:20240701T152915Z
LAST-MODIFIED:20240701T152915Z
UID:496-1729321200-1729350000@pipetrust.org
SUMMARY:Backflow Recert
DESCRIPTION:
URL:https://pipetrust.org/event/backflow-recert-8/
LOCATION:AZ
CATEGORIES:Backflow
END:VEVENT
END:VCALENDAR