BEGIN:VCALENDAR
VERSION:2.0
PRODID:-//P.I.P.E Trust - ECPv6.15.20//NONSGML v1.0//EN
CALSCALE:GREGORIAN
METHOD:PUBLISH
X-WR-CALNAME:P.I.P.E Trust
X-ORIGINAL-URL:https://pipetrust.org
X-WR-CALDESC:Events for P.I.P.E Trust
REFRESH-INTERVAL;VALUE=DURATION:PT1H
X-Robots-Tag:noindex
X-PUBLISHED-TTL:PT1H
BEGIN:VTIMEZONE
TZID:UTC
BEGIN:STANDARD
TZOFFSETFROM:+0000
TZOFFSETTO:+0000
TZNAME:UTC
DTSTART:20230101T000000
END:STANDARD
END:VTIMEZONE
BEGIN:VEVENT
DTSTART;TZID=UTC:20241116T063000
DTEND;TZID=UTC:20241116T140000
DTSTAMP:20260421T192643
CREATED:20240628T200612Z
LAST-MODIFIED:20240628T200612Z
UID:470-1731738600-1731765600@pipetrust.org
SUMMARY:PVC Bonding
DESCRIPTION:
URL:https://pipetrust.org/event/pvc-bonding-15/
LOCATION:AZ
CATEGORIES:PVC Bonding
END:VEVENT
BEGIN:VEVENT
DTSTART;TZID=UTC:20241116T070000
DTEND;TZID=UTC:20241116T150000
DTSTAMP:20260421T192643
CREATED:20240701T153025Z
LAST-MODIFIED:20240701T153025Z
UID:498-1731740400-1731769200@pipetrust.org
SUMMARY:Backflow Recert
DESCRIPTION:
URL:https://pipetrust.org/event/backflow-recert-10/
LOCATION:AZ
CATEGORIES:Backflow
END:VEVENT
END:VCALENDAR