BEGIN:VCALENDAR
VERSION:2.0
PRODID:-//P.I.P.E Trust - ECPv6.15.20//NONSGML v1.0//EN
CALSCALE:GREGORIAN
METHOD:PUBLISH
X-WR-CALNAME:P.I.P.E Trust
X-ORIGINAL-URL:https://pipetrust.org
X-WR-CALDESC:Events for P.I.P.E Trust
REFRESH-INTERVAL;VALUE=DURATION:PT1H
X-Robots-Tag:noindex
X-PUBLISHED-TTL:PT1H
BEGIN:VTIMEZONE
TZID:UTC
BEGIN:STANDARD
TZOFFSETFROM:+0000
TZOFFSETTO:+0000
TZNAME:UTC
DTSTART:20230101T000000
END:STANDARD
END:VTIMEZONE
BEGIN:VEVENT
DTSTART;TZID=UTC:20241112T170000
DTEND;TZID=UTC:20241112T210000
DTSTAMP:20260421T131713
CREATED:20240628T195858Z
LAST-MODIFIED:20240628T195858Z
UID:468-1731430800-1731445200@pipetrust.org
SUMMARY:PVC Bonding
DESCRIPTION:
URL:https://pipetrust.org/event/pvc-bonding-13/
LOCATION:AZ
CATEGORIES:PVC Bonding
END:VEVENT
END:VCALENDAR